BEGIN:VCALENDAR
VERSION:2.0
PRODID:-//LibreRegistration//EN
BEGIN:VEVENT
UID:00000000-0000-4000-8000-000000008934@libreregistration
DTSTAMP:20260423T110333Z
DTSTART:20160623T000000Z
DTEND:20160623T020000Z
SUMMARY:Qjelt — 23/06/2016
END:VEVENT
END:VCALENDAR
