BEGIN:VCALENDAR
VERSION:2.0
PRODID:-//LibreRegistration//EN
BEGIN:VEVENT
UID:00000000-0000-4000-8000-000000008919@libreregistration
DTSTAMP:20260423T104655Z
DTSTART:20160611T000000Z
DTEND:20160611T020000Z
SUMMARY:Atelier Cpp Qt — 11/06/2016
END:VEVENT
END:VCALENDAR
