BEGIN:VCALENDAR
VERSION:2.0
PRODID:-//LibreRegistration//EN
BEGIN:VEVENT
UID:00000000-0000-4000-8000-000000009647@libreregistration
DTSTAMP:20260423T110341Z
DTSTART:20160522T000000Z
DTEND:20160522T020000Z
SUMMARY:Qjelt — 22/05/2016
END:VEVENT
END:VCALENDAR
