BEGIN:VCALENDAR
VERSION:2.0
PRODID:-//LibreRegistration//EN
BEGIN:VEVENT
UID:00000000-0000-4000-8000-000000008884@libreregistration
DTSTAMP:20260423T104941Z
DTSTART:20160514T000000Z
DTEND:20160514T020000Z
SUMMARY:Atelier Infographie — 14/05/2016
END:VEVENT
END:VCALENDAR
