BEGIN:VCALENDAR
VERSION:2.0
PRODID:-//LibreRegistration//EN
BEGIN:VEVENT
UID:00000000-0000-4000-8000-000000008891@libreregistration
DTSTAMP:20260423T110334Z
DTSTART:20160506T000000Z
DTEND:20160506T020000Z
SUMMARY:Qjelt — 06/05/2016
END:VEVENT
END:VCALENDAR
