BEGIN:VCALENDAR
VERSION:2.0
PRODID:-//LibreRegistration//EN
BEGIN:VEVENT
UID:00000000-0000-4000-8000-000000008912@libreregistration
DTSTAMP:20260423T110714Z
DTSTART:20160409T000000Z
DTEND:20160409T020000Z
SUMMARY:Atelier Blender — 09/04/2016
END:VEVENT
END:VCALENDAR
