BEGIN:VCALENDAR
VERSION:2.0
PRODID:-//LibreRegistration//EN
BEGIN:VEVENT
UID:00000000-0000-4000-8000-000000008840@libreregistration
DTSTAMP:20260423T105232Z
DTSTART:20160426T000000Z
DTEND:20160426T020000Z
SUMMARY:Qjelt — 26/04/2016
END:VEVENT
END:VCALENDAR
