BEGIN:VCALENDAR
VERSION:2.0
PRODID:-//LibreRegistration//EN
BEGIN:VEVENT
UID:00000000-0000-4000-8000-000000008747@libreregistration
DTSTAMP:20260423T110845Z
DTSTART:20160312T000000Z
DTEND:20160312T020000Z
SUMMARY:Atelier Blender — 12/03/2016
END:VEVENT
END:VCALENDAR
