BEGIN:VCALENDAR
VERSION:2.0
PRODID:-//LibreRegistration//EN
BEGIN:VEVENT
UID:00000000-0000-4000-8000-000000008715@libreregistration
DTSTAMP:20260423T110421Z
DTSTART:20160223T000000Z
DTEND:20160223T020000Z
SUMMARY:Qjelt — 23/02/2016
END:VEVENT
END:VCALENDAR
