BEGIN:VCALENDAR
VERSION:2.0
PRODID:-//LibreRegistration//EN
BEGIN:VEVENT
UID:00000000-0000-4000-8000-000000008740@libreregistration
DTSTAMP:20260423T110809Z
DTSTART:20160213T000000Z
DTEND:20160213T020000Z
SUMMARY:Sous Titrage Signotheque — 13/02/2016
END:VEVENT
END:VCALENDAR
