BEGIN:VCALENDAR
VERSION:2.0
PRODID:-//LibreRegistration//EN
BEGIN:VEVENT
UID:00000000-0000-4000-8000-000000008626@libreregistration
DTSTAMP:20260423T124612Z
DTSTART:20160126T000000Z
DTEND:20160126T020000Z
SUMMARY:Qjelt — 26/01/2016
END:VEVENT
END:VCALENDAR
