BEGIN:VCALENDAR
VERSION:2.0
PRODID:-//LibreRegistration//EN
BEGIN:VEVENT
UID:00000000-0000-4000-8000-000000008501@libreregistration
DTSTAMP:20260423T125423Z
DTSTART:20160109T000000Z
DTEND:20160109T020000Z
SUMMARY:Atelier Sous Titrage — 09/01/2016
END:VEVENT
END:VCALENDAR
