BEGIN:VCALENDAR
VERSION:2.0
PRODID:-//LibreRegistration//EN
BEGIN:VEVENT
UID:00000000-0000-4000-8000-000000008512@libreregistration
DTSTAMP:20260423T124748Z
DTSTART:20151222T000000Z
DTEND:20151222T020000Z
SUMMARY:Qjelt — 22/12/2015
END:VEVENT
END:VCALENDAR
