BEGIN:VCALENDAR
VERSION:2.0
PRODID:-//LibreRegistration//EN
BEGIN:VEVENT
UID:00000000-0000-4000-8000-000000008531@libreregistration
DTSTAMP:20260423T125423Z
DTSTART:20151212T000000Z
DTEND:20151212T020000Z
SUMMARY:Atelier Blender — 12/12/2015
END:VEVENT
END:VCALENDAR
