BEGIN:VCALENDAR
VERSION:2.0
PRODID:-//LibreRegistration//EN
BEGIN:VEVENT
UID:00000000-0000-4000-8000-000000008453@libreregistration
DTSTAMP:20260423T124751Z
DTSTART:20151112T000000Z
DTEND:20151112T020000Z
SUMMARY:Qjelt — 12/11/2015
END:VEVENT
END:VCALENDAR
