BEGIN:VCALENDAR
VERSION:2.0
PRODID:-//LibreRegistration//EN
BEGIN:VEVENT
UID:00000000-0000-4000-8000-000000008405@libreregistration
DTSTAMP:20260423T124948Z
DTSTART:20151107T000000Z
DTEND:20151107T020000Z
SUMMARY:Atelier Sous Titrage — 07/11/2015
END:VEVENT
END:VCALENDAR
