BEGIN:VCALENDAR
VERSION:2.0
PRODID:-//LibreRegistration//EN
BEGIN:VEVENT
UID:00000000-0000-4000-8000-000000008422@libreregistration
DTSTAMP:20260423T124814Z
DTSTART:20151104T000000Z
DTEND:20151104T020000Z
SUMMARY:Quadrapero Bellegarde — 04/11/2015
END:VEVENT
END:VCALENDAR
