BEGIN:VCALENDAR
VERSION:2.0
PRODID:-//LibreRegistration//EN
BEGIN:VEVENT
UID:00000000-0000-4000-8000-000000008332@libreregistration
DTSTAMP:20260423T124457Z
DTSTART:20151027T000000Z
DTEND:20151027T020000Z
SUMMARY:Quadrapero — 27/10/2015
END:VEVENT
END:VCALENDAR
