BEGIN:VCALENDAR
VERSION:2.0
PRODID:-//LibreRegistration//EN
BEGIN:VEVENT
UID:00000000-0000-4000-8000-000000008266@libreregistration
DTSTAMP:20260423T124947Z
DTSTART:20151010T000000Z
DTEND:20151010T020000Z
SUMMARY:Atelier Audiomedia — 10/10/2015
END:VEVENT
END:VCALENDAR
