BEGIN:VCALENDAR
VERSION:2.0
PRODID:-//LibreRegistration//EN
BEGIN:VEVENT
UID:00000000-0000-4000-8000-000000008171@libreregistration
DTSTAMP:20260423T124926Z
DTSTART:20150917T000000Z
DTEND:20150917T020000Z
SUMMARY:Qjelt — 17/09/2015
END:VEVENT
END:VCALENDAR
