BEGIN:VCALENDAR
VERSION:2.0
PRODID:-//LibreRegistration//EN
BEGIN:VEVENT
UID:00000000-0000-4000-8000-000000008068@libreregistration
DTSTAMP:20260423T124611Z
DTSTART:20150909T000000Z
DTEND:20150909T020000Z
SUMMARY:Ag — 09/09/2015
END:VEVENT
END:VCALENDAR
