BEGIN:VCALENDAR
VERSION:2.0
PRODID:-//LibreRegistration//EN
BEGIN:VEVENT
UID:00000000-0000-4000-8000-000000008001@libreregistration
DTSTAMP:20260423T124623Z
DTSTART:20150818T000000Z
DTEND:20150818T020000Z
SUMMARY:Qjelt — 18/08/2015
END:VEVENT
END:VCALENDAR
