BEGIN:VCALENDAR
VERSION:2.0
PRODID:-//LibreRegistration//EN
BEGIN:VEVENT
UID:00000000-0000-4000-8000-000000007977@libreregistration
DTSTAMP:20260423T143149Z
DTSTART:20150620T000000Z
DTEND:20150620T020000Z
SUMMARY:Atelier Blender — 20/06/2015
END:VEVENT
END:VCALENDAR
