BEGIN:VCALENDAR
VERSION:2.0
PRODID:-//LibreRegistration//EN
BEGIN:VEVENT
UID:00000000-0000-4000-8000-000000007954@libreregistration
DTSTAMP:20260423T144106Z
DTSTART:20150618T000000Z
DTEND:20150618T020000Z
SUMMARY:Qjelt — 18/06/2015
END:VEVENT
END:VCALENDAR
