BEGIN:VCALENDAR
VERSION:2.0
PRODID:-//LibreRegistration//EN
BEGIN:VEVENT
UID:00000000-0000-4000-8000-000000007912@libreregistration
DTSTAMP:20260423T143019Z
DTSTART:20150521T000000Z
DTEND:20150521T020000Z
SUMMARY:Qjelt — 21/05/2015
END:VEVENT
END:VCALENDAR
