BEGIN:VCALENDAR
VERSION:2.0
PRODID:-//LibreRegistration//EN
BEGIN:VEVENT
UID:00000000-0000-4000-8000-000000007880@libreregistration
DTSTAMP:20260423T143102Z
DTSTART:20150517T000000Z
DTEND:20150517T020000Z
SUMMARY:Atelier Grafcet — 17/05/2015
END:VEVENT
END:VCALENDAR
