BEGIN:VCALENDAR
VERSION:2.0
PRODID:-//LibreRegistration//EN
BEGIN:VEVENT
UID:00000000-0000-4000-8000-000000007891@libreregistration
DTSTAMP:20260423T144421Z
DTSTART:20150516T000000Z
DTEND:20150516T020000Z
SUMMARY:Atelier Blender — 16/05/2015
END:VEVENT
END:VCALENDAR
