BEGIN:VCALENDAR
VERSION:2.0
PRODID:-//LibreRegistration//EN
BEGIN:VEVENT
UID:00000000-0000-4000-8000-000000007859@libreregistration
DTSTAMP:20260423T144254Z
DTSTART:20150505T000000Z
DTEND:20150505T020000Z
SUMMARY:Qjelt — 05/05/2015
END:VEVENT
END:VCALENDAR
