BEGIN:VCALENDAR
VERSION:2.0
PRODID:-//LibreRegistration//EN
BEGIN:VEVENT
UID:00000000-0000-4000-8000-000000007846@libreregistration
DTSTAMP:20260423T143245Z
DTSTART:20150411T000000Z
DTEND:20150411T020000Z
SUMMARY:Atelier Blender — 11/04/2015
END:VEVENT
END:VCALENDAR
