BEGIN:VCALENDAR
VERSION:2.0
PRODID:-//LibreRegistration//EN
BEGIN:VEVENT
UID:00000000-0000-4000-8000-000000007796@libreregistration
DTSTAMP:20260423T144323Z
DTSTART:20150331T000000Z
DTEND:20150331T020000Z
SUMMARY:Qjelt — 31/03/2015
END:VEVENT
END:VCALENDAR
