BEGIN:VCALENDAR
VERSION:2.0
PRODID:-//LibreRegistration//EN
BEGIN:VEVENT
UID:00000000-0000-4000-8000-000000007772@libreregistration
DTSTAMP:20260423T143517Z
DTSTART:20150314T000000Z
DTEND:20150314T020000Z
SUMMARY:Atelier Kde — 14/03/2015
END:VEVENT
END:VCALENDAR
