BEGIN:VCALENDAR
VERSION:2.0
PRODID:-//LibreRegistration//EN
BEGIN:VEVENT
UID:00000000-0000-4000-8000-000000007748@libreregistration
DTSTAMP:20260423T142609Z
DTSTART:20150228T000000Z
DTEND:20150228T020000Z
SUMMARY:Atelier Python — 28/02/2015
END:VEVENT
END:VCALENDAR
