BEGIN:VCALENDAR
VERSION:2.0
PRODID:-//LibreRegistration//EN
BEGIN:VEVENT
UID:00000000-0000-4000-8000-000000007686@libreregistration
DTSTAMP:20260423T142456Z
DTSTART:20150207T000000Z
DTEND:20150207T020000Z
SUMMARY:Atelier Python — 07/02/2015
END:VEVENT
END:VCALENDAR
