BEGIN:VCALENDAR
VERSION:2.0
PRODID:-//LibreRegistration//EN
BEGIN:VEVENT
UID:00000000-0000-4000-8000-000000007620@libreregistration
DTSTAMP:20260423T144206Z
DTSTART:20150127T000000Z
DTEND:20150127T020000Z
SUMMARY:Qjelt — 27/01/2015
END:VEVENT
END:VCALENDAR
