BEGIN:VCALENDAR
VERSION:2.0
PRODID:-//LibreRegistration//EN
BEGIN:VEVENT
UID:00000000-0000-4000-8000-000000007581@libreregistration
DTSTAMP:20260423T142954Z
DTSTART:20150124T000000Z
DTEND:20150124T020000Z
SUMMARY:Atelier Kde — 24/01/2015
END:VEVENT
END:VCALENDAR
