BEGIN:VCALENDAR
VERSION:2.0
PRODID:-//LibreRegistration//EN
BEGIN:VEVENT
UID:00000000-0000-4000-8000-000000007598@libreregistration
DTSTAMP:20260423T143141Z
DTSTART:20150124T000000Z
DTEND:20150124T020000Z
SUMMARY:Atelier Blender — 24/01/2015
END:VEVENT
END:VCALENDAR
