BEGIN:VCALENDAR
VERSION:2.0
PRODID:-//LibreRegistration//EN
BEGIN:VEVENT
UID:00000000-0000-4000-8000-000000007306@libreregistration
DTSTAMP:20260423T155840Z
DTSTART:20140707T000000Z
DTEND:20140707T020000Z
SUMMARY:Release Party — 07/07/2014
END:VEVENT
END:VCALENDAR
