BEGIN:VCALENDAR
VERSION:2.0
PRODID:-//LibreRegistration//EN
BEGIN:VEVENT
UID:00000000-0000-4000-8000-000000007276@libreregistration
DTSTAMP:20260423T160139Z
DTSTART:20140621T000000Z
DTEND:20140621T020000Z
SUMMARY:Atelier Kde — 21/06/2014
END:VEVENT
END:VCALENDAR
