BEGIN:VCALENDAR
VERSION:2.0
PRODID:-//LibreRegistration//EN
BEGIN:VEVENT
UID:00000000-0000-4000-8000-000000007048@libreregistration
DTSTAMP:20260423T174620Z
DTSTART:20140322T000000Z
DTEND:20140322T020000Z
SUMMARY:Atelier Kde — 22/03/2014
END:VEVENT
END:VCALENDAR
