BEGIN:VCALENDAR
VERSION:2.0
PRODID:-//LibreRegistration//EN
BEGIN:VEVENT
UID:00000000-0000-4000-8000-000000007496@libreregistration
DTSTAMP:20260423T160030Z
DTSTART:20141127T000000Z
DTEND:20141127T020000Z
SUMMARY:Qjelt — 27/11/2014
END:VEVENT
END:VCALENDAR
