BEGIN:VCALENDAR
VERSION:2.0
PRODID:-//LibreRegistration//EN
BEGIN:VEVENT
UID:00000000-0000-4000-8000-000000007472@libreregistration
DTSTAMP:20260423T160111Z
DTSTART:20141108T000000Z
DTEND:20141108T020000Z
SUMMARY:Atelier Grafcet — 08/11/2014
END:VEVENT
END:VCALENDAR
