BEGIN:VCALENDAR
VERSION:2.0
PRODID:-//LibreRegistration//EN
BEGIN:VEVENT
UID:00000000-0000-4000-8000-000000007379@libreregistration
DTSTAMP:20260423T160139Z
DTSTART:20141025T000000Z
DTEND:20141025T020000Z
SUMMARY:Atelier Latex — 25/10/2014
END:VEVENT
END:VCALENDAR
