BEGIN:VCALENDAR
VERSION:2.0
PRODID:-//LibreRegistration//EN
BEGIN:VEVENT
UID:00000000-0000-4000-8000-000000007399@libreregistration
DTSTAMP:20260423T155958Z
DTSTART:20141023T000000Z
DTEND:20141023T020000Z
SUMMARY:Qjelt — 23/10/2014
END:VEVENT
END:VCALENDAR
