BEGIN:VCALENDAR
VERSION:2.0
PRODID:-//LibreRegistration//EN
BEGIN:VEVENT
UID:00000000-0000-4000-8000-000000007360@libreregistration
DTSTAMP:20260423T160138Z
DTSTART:20141018T000000Z
DTEND:20141018T020000Z
SUMMARY:Atelier Blender — 18/10/2014
END:VEVENT
END:VCALENDAR
