BEGIN:VCALENDAR
VERSION:2.0
PRODID:-//LibreRegistration//EN
BEGIN:VEVENT
UID:00000000-0000-4000-8000-000000007172@libreregistration
DTSTAMP:20260423T160126Z
DTSTART:20140621T000000Z
DTEND:20140621T020000Z
SUMMARY:Atelier Gimp — 21/06/2014
END:VEVENT
END:VCALENDAR
