BEGIN:VCALENDAR
VERSION:2.0
PRODID:-//LibreRegistration//EN
BEGIN:VEVENT
UID:00000000-0000-4000-8000-000000007240@libreregistration
DTSTAMP:20260423T155958Z
DTSTART:20140612T000000Z
DTEND:20140612T020000Z
SUMMARY:Qjelt — 12/06/2014
END:VEVENT
END:VCALENDAR
