BEGIN:VCALENDAR
VERSION:2.0
PRODID:-//LibreRegistration//EN
BEGIN:VEVENT
UID:00000000-0000-4000-8000-000000007082@libreregistration
DTSTAMP:20260423T155319Z
DTSTART:20140517T000000Z
DTEND:20140517T020000Z
SUMMARY:Atelier Javascript — 17/05/2014
END:VEVENT
END:VCALENDAR
