BEGIN:VCALENDAR
VERSION:2.0
PRODID:-//LibreRegistration//EN
BEGIN:VEVENT
UID:00000000-0000-4000-8000-000000007131@libreregistration
DTSTAMP:20260423T160029Z
DTSTART:20140410T000000Z
DTEND:20140410T020000Z
SUMMARY:Qjelt — 10/04/2014
END:VEVENT
END:VCALENDAR
