BEGIN:VCALENDAR
VERSION:2.0
PRODID:-//LibreRegistration//EN
BEGIN:VEVENT
UID:00000000-0000-4000-8000-000000007122@libreregistration
DTSTAMP:20260423T160247Z
DTSTART:20140405T000000Z
DTEND:20140405T020000Z
SUMMARY:Atelier Blender — 05/04/2014
END:VEVENT
END:VCALENDAR
