BEGIN:VCALENDAR
VERSION:2.0
PRODID:-//LibreRegistration//EN
BEGIN:VEVENT
UID:00000000-0000-4000-8000-000000007029@libreregistration
DTSTAMP:20260423T174724Z
DTSTART:20140322T000000Z
DTEND:20140322T020000Z
SUMMARY:Atelier Blender — 22/03/2014
END:VEVENT
END:VCALENDAR
